BEGIN:VCALENDAR
VERSION:2.0
PRODID:-//WINGS Guatemala - ECPv6.15.20//NONSGML v1.0//EN
CALSCALE:GREGORIAN
METHOD:PUBLISH
X-WR-CALNAME:WINGS Guatemala
X-ORIGINAL-URL:https://www.wingsguate.org
X-WR-CALDESC:Events for WINGS Guatemala
REFRESH-INTERVAL;VALUE=DURATION:PT1H
X-Robots-Tag:noindex
X-PUBLISHED-TTL:PT1H
BEGIN:VTIMEZONE
TZID:UTC
BEGIN:STANDARD
TZOFFSETFROM:+0000
TZOFFSETTO:+0000
TZNAME:UTC
DTSTART:20200101T000000
END:STANDARD
END:VTIMEZONE
BEGIN:VEVENT
DTSTART;TZID=UTC:20210421T080000
DTEND;TZID=UTC:20210421T120000
DTSTAMP:20260421T040639
CREATED:20210409T233146Z
LAST-MODIFIED:20210409T233146Z
UID:5242-1618992000-1619006400@www.wingsguate.org
SUMMARY:Anticonceptivos – Zunil (Quetzaltenango)
DESCRIPTION:Servicios anticonceptivos en el Centro de Salud de Zunil (Quetzaltenango).  \nAnticonceptivos: Colocación de DIU (T de cobre) y Jadelle (implante hormonal).  \nTambién se ofrecerán pruebas de detección de cáncer cervical.  \nServicios gratuitos.  \nPara más información y reserva de cupo\, llamar al 4511-4847. 
URL:https://www.wingsguate.org/event/anticonceptivos-zunil-quetzaltenango-3/
CATEGORIES:English,Spanish
END:VEVENT
BEGIN:VEVENT
DTSTART;TZID=UTC:20210421T080000
DTEND;TZID=UTC:20210421T123000
DTSTAMP:20260421T040639
CREATED:20210407T034358Z
LAST-MODIFIED:20210407T034410Z
UID:5177-1618992000-1619008200@www.wingsguate.org
SUMMARY:Anticonceptivos – Santa Cruz Muluá (Retalhuleu)
DESCRIPTION:Servicios anticonceptivos en el Puesto de Salud de Aldea Lolita\, Santa Cruz Muluá (Retalhuleu).  \nAnticonceptivos: Colocación de DIU (T de cobre) y Jadelle (implante hormonal).  \nTambién se ofrecerán pruebas de detección de cáncer cervical.  \nServicios gratuitos.  \nPara más información y reserva de cupo\, llamar al 4511-6520. 
URL:https://www.wingsguate.org/event/anticonceptivos-santa-cruz-mulua-retalhuleu/
CATEGORIES:English,Spanish
END:VEVENT
BEGIN:VEVENT
DTSTART;TZID=UTC:20210421T080000
DTEND;TZID=UTC:20210421T123000
DTSTAMP:20260421T040639
CREATED:20210409T231140Z
LAST-MODIFIED:20210409T231140Z
UID:5236-1618992000-1619008200@www.wingsguate.org
SUMMARY:Anticonceptivos – Nueva Santa Rosa (Santa Rosa)
DESCRIPTION:Servicios anticonceptivos en el Puesto de Aldea Estanzuelas\, Salud de Nueva Santa Rosa (Santa Rosa).  \nAnticonceptivos: Colocación de DIU (T de cobre) y Jadelle (implante hormonal).  \nTambién se ofrecerán pruebas de detección de cáncer cervical.  \nServicios gratuitos.  \nPara más información y reserva de cupo\, llamar al 4511-5039. 
URL:https://www.wingsguate.org/event/anticonceptivos-nueva-santa-rosa-santa-rosa-10/
CATEGORIES:English,Spanish
END:VEVENT
BEGIN:VEVENT
DTSTART;TZID=UTC:20210421T080000
DTEND;TZID=UTC:20210421T123000
DTSTAMP:20260421T040639
CREATED:20210410T005138Z
LAST-MODIFIED:20210410T005138Z
UID:5266-1618992000-1619008200@www.wingsguate.org
SUMMARY:Anticonceptivos – Chisec (Alta Verapaz)
DESCRIPTION:Servicios anticonceptivos en el Puesto de Salud de Comunidad Samaria\, Chisec (Alta Verapaz).  \nAnticonceptivos: Colocación de DIU (T de cobre) y Jadelle (implante hormonal).  \nTambién se ofrecerán pruebas de detección de cáncer cervical.  \nServicios gratuitos.  \nPara más información y reserva de cupo\, llamar al 3227-1513. 
URL:https://www.wingsguate.org/event/anticonceptivos-chisec-alta-verapaz-3/
CATEGORIES:English,Spanish
END:VEVENT
BEGIN:VEVENT
DTSTART;TZID=UTC:20210421T080000
DTEND;TZID=UTC:20210421T143000
DTSTAMP:20260421T040639
CREATED:20210316T231741Z
LAST-MODIFIED:20210316T231741Z
UID:5079-1618992000-1619015400@www.wingsguate.org
SUMMARY:Anticonceptivos – Cuyotenango (Suchitepéquez)
DESCRIPTION:Servicios anticonceptivos en el Centro de Atención Permanente de Cuyotenango (Suchitepéquez).  \nAnticonceptivos: Colocación de DIU (T de cobre) y Jadelle (implante hormonal).  \nTambién se ofrecerán pruebas de detección de cáncer cervical.  \nServicios gratuitos.  \nPara más información y reserva de cupo\, llamar al 4511-6520. 
URL:https://www.wingsguate.org/event/anticonceptivos-cuyotenango-suchitepequez-17/
CATEGORIES:English,Spanish
END:VEVENT
BEGIN:VEVENT
DTSTART;TZID=UTC:20210421T080000
DTEND;TZID=UTC:20210421T143000
DTSTAMP:20260421T040639
CREATED:20210317T000132Z
LAST-MODIFIED:20210317T000132Z
UID:5120-1618992000-1619015400@www.wingsguate.org
SUMMARY:Anticonceptivos – Santa Cruz Verapaz (Alta Verapaz)
DESCRIPTION:Servicios anticonceptivos en el Centro Atención Permanente de Santa Cruz Verapaz (Alta Verapaz).  \nAnticonceptivos: Colocación de DIU (T de cobre) y Jadelle (implante hormonal).  \nTambién se ofrecerán pruebas de detección de cáncer cervical.  \nServicios gratuitos.  \nPara más información y reserva de cupo\, llamar al 3227-1513. 
URL:https://www.wingsguate.org/event/anticonceptivos-santa-cruz-verapaz-alta-verapaz-29/
CATEGORIES:English,Spanish
END:VEVENT
END:VCALENDAR