BEGIN:VCALENDAR
VERSION:2.0
PRODID:-//WINGS Guatemala - ECPv6.15.20//NONSGML v1.0//EN
CALSCALE:GREGORIAN
METHOD:PUBLISH
X-WR-CALNAME:WINGS Guatemala
X-ORIGINAL-URL:https://www.wingsguate.org
X-WR-CALDESC:Events for WINGS Guatemala
REFRESH-INTERVAL;VALUE=DURATION:PT1H
X-Robots-Tag:noindex
X-PUBLISHED-TTL:PT1H
BEGIN:VTIMEZONE
TZID:UTC
BEGIN:STANDARD
TZOFFSETFROM:+0000
TZOFFSETTO:+0000
TZNAME:UTC
DTSTART:20200101T000000
END:STANDARD
END:VTIMEZONE
BEGIN:VEVENT
DTSTART;TZID=UTC:20210420T080000
DTEND;TZID=UTC:20210420T123000
DTSTAMP:20260421T005959
CREATED:20210409T231037Z
LAST-MODIFIED:20210409T231037Z
UID:5234-1618905600-1618921800@www.wingsguate.org
SUMMARY:Anticonceptivos – Nueva Santa Rosa (Santa Rosa)
DESCRIPTION:Servicios anticonceptivos en el Puesto de Salud de Aldea Jumaytepeque\, Nueva Santa Rosa (Santa Rosa).  \nAnticonceptivos: Colocación de DIU (T de cobre) y Jadelle (implante hormonal).  \nTambién se ofrecerán pruebas de detección de cáncer cervical.  \nServicios gratuitos.  \nPara más información y reserva de cupo\, llamar al 4511-5039. 
URL:https://www.wingsguate.org/event/anticonceptivos-nueva-santa-rosa-santa-rosa-9/
CATEGORIES:English,Spanish
END:VEVENT
BEGIN:VEVENT
DTSTART;TZID=UTC:20210420T080000
DTEND;TZID=UTC:20210420T123000
DTSTAMP:20260421T005959
CREATED:20210409T234821Z
LAST-MODIFIED:20210409T234821Z
UID:5250-1618905600-1618921800@www.wingsguate.org
SUMMARY:Anticonceptivos – San Juan Atitán (Huehuetenango)
DESCRIPTION:Servicios anticonceptivos en el Puesto de Salud del Casco Urbano de San Juan Atitán (Huehuetenango).  \nAnticonceptivos: Colocación de DIU (T de cobre) y Jadelle (implante hormonal).  \nTambién se ofrecerán pruebas de detección de cáncer cervical.  \nServicios gratuitos.  \nPara más información y reserva de cupo\, llamar al 3227-4564. 
URL:https://www.wingsguate.org/event/anticonceptivos-san-juan-atitan-huehuetenango/
CATEGORIES:English,Spanish
END:VEVENT
BEGIN:VEVENT
DTSTART;TZID=UTC:20210420T080000
DTEND;TZID=UTC:20210420T123000
DTSTAMP:20260421T005959
CREATED:20210409T235809Z
LAST-MODIFIED:20210409T235809Z
UID:5256-1618905600-1618921800@www.wingsguate.org
SUMMARY:Anticonceptivos – San Marcos (San Marcos)
DESCRIPTION:Servicios anticonceptivos en el Puesto de Salud de San Marcos (San Marcos).  \nAnticonceptivos: Colocación de DIU (T de cobre) y Jadelle (implante hormonal).  \nTambién se ofrecerán pruebas de detección de cáncer cervical.  \nServicios gratuitos.  \nPara más información y reserva de cupo\, llamar al 3227-4564. 
URL:https://www.wingsguate.org/event/anticonceptivos-san-marcos-san-marcos-4/
CATEGORIES:English,Spanish
END:VEVENT
BEGIN:VEVENT
DTSTART;TZID=UTC:20210420T080000
DTEND;TZID=UTC:20210420T123000
DTSTAMP:20260421T005959
CREATED:20210410T002046Z
LAST-MODIFIED:20210410T002046Z
UID:5264-1618905600-1618921800@www.wingsguate.org
SUMMARY:Anticonceptivos – Chisec (Alta Verapaz)
DESCRIPTION:Servicios anticonceptivos en el Puesto de Salud de Comunidad Carolina\, Chisec (Alta Verapaz).  \nAnticonceptivos: Colocación de DIU (T de cobre) y Jadelle (implante hormonal).  \nTambién se ofrecerán pruebas de detección de cáncer cervical.  \nServicios gratuitos.  \nPara más información y reserva de cupo\, llamar al 3227-1513. 
URL:https://www.wingsguate.org/event/anticonceptivos-chisec-alta-verapaz-2/
CATEGORIES:English,Spanish
END:VEVENT
BEGIN:VEVENT
DTSTART;TZID=UTC:20210420T080000
DTEND;TZID=UTC:20210420T133000
DTSTAMP:20260421T005959
CREATED:20210407T033331Z
LAST-MODIFIED:20210407T033343Z
UID:5168-1618905600-1618925400@www.wingsguate.org
SUMMARY:Anticonceptivos – Chimaltenango (Chimaltenango)
DESCRIPTION:Servicios anticonceptivos en la Gobernación Departamental de Chimaltenango (Chimaltenango).  \nAnticonceptivos: Colocación de DIU (T de cobre) y Jadelle (implante hormonal).  \nTambién se ofrecerán pruebas de detección de cáncer cervical.  \nServicios gratuitos.  \nPara más información y reserva de cupo\, llamar al 4511-5525. 
URL:https://www.wingsguate.org/event/anticonceptivos-chimaltenango-chimaltenango-11/
CATEGORIES:English,Spanish
END:VEVENT
BEGIN:VEVENT
DTSTART;TZID=UTC:20210420T080000
DTEND;TZID=UTC:20210420T143000
DTSTAMP:20260421T005959
CREATED:20210316T232002Z
LAST-MODIFIED:20210316T232002Z
UID:5083-1618905600-1618929000@www.wingsguate.org
SUMMARY:Anticonceptivos – San Lorenzo (Suchitepéquez)
DESCRIPTION:Servicios anticonceptivos en el Puesto de Salud de San Lorenzo (Suchitepéquez).  \nAnticonceptivos: Colocación de DIU (T de cobre) y Jadelle (implante hormonal).  \nTambién se ofrecerán pruebas de detección de cáncer cervical.  \nServicios gratuitos.  \nPara más información y reserva de cupo\, llamar al 4511-6520. 
URL:https://www.wingsguate.org/event/anticonceptivos-san-lorenzo-suchitepequez-6/
CATEGORIES:English,Spanish
END:VEVENT
BEGIN:VEVENT
DTSTART;TZID=UTC:20210420T080000
DTEND;TZID=UTC:20210420T143000
DTSTAMP:20260421T005959
CREATED:20210316T232135Z
LAST-MODIFIED:20210316T232135Z
UID:5085-1618905600-1618929000@www.wingsguate.org
SUMMARY:Anticonceptivos – Mazatenango (Suchitepéquez)
DESCRIPTION:Servicios anticonceptivos en el Puesto de Salud de Aldea El Progreso\, Mazatenango (Suchitepéquez).  \nAnticonceptivos: Colocación de DIU (T de cobre) y Jadelle (implante hormonal).  \nTambién se ofrecerán pruebas de detección de cáncer cervical.  \nServicios gratuitos.  \nPara más información y reserva de cupo\, llamar al 4511-6520. 
URL:https://www.wingsguate.org/event/anticonceptivos-mazatenango-suchitepequez/
CATEGORIES:English,Spanish
END:VEVENT
END:VCALENDAR