BEGIN:VCALENDAR
VERSION:2.0
PRODID:-//WINGS Guatemala - ECPv6.15.20//NONSGML v1.0//EN
CALSCALE:GREGORIAN
METHOD:PUBLISH
X-WR-CALNAME:WINGS Guatemala
X-ORIGINAL-URL:https://www.wingsguate.org
X-WR-CALDESC:Events for WINGS Guatemala
REFRESH-INTERVAL;VALUE=DURATION:PT1H
X-Robots-Tag:noindex
X-PUBLISHED-TTL:PT1H
BEGIN:VTIMEZONE
TZID:UTC
BEGIN:STANDARD
TZOFFSETFROM:+0000
TZOFFSETTO:+0000
TZNAME:UTC
DTSTART:20200101T000000
END:STANDARD
END:VTIMEZONE
BEGIN:VEVENT
DTSTART;TZID=UTC:20210419T080000
DTEND;TZID=UTC:20210419T123000
DTSTAMP:20260420T172429
CREATED:20210409T222629Z
LAST-MODIFIED:20210409T222629Z
UID:5211-1618819200-1618835400@www.wingsguate.org
SUMMARY:Anticonceptivos – Patzún (Chimaltenango)
DESCRIPTION:Servicios anticonceptivos en el Puesto de Salud Xeatzán\, Patzún (Chimaltenango).  \nAnticonceptivos: Colocación de DIU (T de cobre) y Jadelle (implante hormonal).  \nTambién se ofrecerán pruebas de detección de cáncer cervical.  \nServicios gratuitos.  \nPara más información y reserva de cupo\, llamar al 3226-7744. 
URL:https://www.wingsguate.org/event/anticonceptivos-patzun-chimaltenango-16/
CATEGORIES:English,Spanish
END:VEVENT
BEGIN:VEVENT
DTSTART;TZID=UTC:20210419T080000
DTEND;TZID=UTC:20210419T123000
DTSTAMP:20260420T172429
CREATED:20210409T233053Z
LAST-MODIFIED:20210409T233053Z
UID:5240-1618819200-1618835400@www.wingsguate.org
SUMMARY:Anticonceptivos – El Palmar (Quetzaltenango)
DESCRIPTION:Servicios anticonceptivos en el Centro de Salud de El Palmar (Quetzaltenango).  \nAnticonceptivos: Colocación de DIU (T de cobre) y Jadelle (implante hormonal).  \nTambién se ofrecerán pruebas de detección de cáncer cervical.  \nServicios gratuitos.  \nPara más información y reserva de cupo\, llamar al 4511-4847. 
URL:https://www.wingsguate.org/event/anticonceptivos-el-palmar-quetzaltenango-20/
CATEGORIES:English,Spanish
END:VEVENT
BEGIN:VEVENT
DTSTART;TZID=UTC:20210419T080000
DTEND;TZID=UTC:20210419T130000
DTSTAMP:20260420T172429
CREATED:20210409T223616Z
LAST-MODIFIED:20210409T223616Z
UID:5220-1618819200-1618837200@www.wingsguate.org
SUMMARY:Anticonceptivos – Amatitlán (Ciudad de Guatemala)
DESCRIPTION:Servicios anticonceptivos en la Dirección Municipal de la Mujer\, Barrio San Juan\, Amatitlán (Ciudad de Guatemala).  \nAnticonceptivos: Colocación de DIU (T de cobre) y Jadelle (implante hormonal).  \nTambién se ofrecerán pruebas de detección de cáncer cervical.  \nServicios gratuitos.  \nPara más información y reserva de cupo\, llamar al 4511-3527. 
URL:https://www.wingsguate.org/event/anticonceptivos-amatitlan-ciudad-de-guatemala-2/
CATEGORIES:English,Spanish
END:VEVENT
BEGIN:VEVENT
DTSTART;TZID=UTC:20210419T080000
DTEND;TZID=UTC:20210419T133000
DTSTAMP:20260420T172429
CREATED:20210407T033013Z
LAST-MODIFIED:20210407T033013Z
UID:5166-1618819200-1618839000@www.wingsguate.org
SUMMARY:Anticonceptivos – Santo Domingo Xenacoj (Sacatepéquez)
DESCRIPTION:Servicios anticonceptivos en el Puesto de Salud de Santo Domingo Xenacoj (Sacatepéquez).  \nAnticonceptivos: Colocación de DIU (T de cobre) y Jadelle (implante hormonal).  \nTambién se ofrecerán pruebas de detección de cáncer cervical.  \nServicios gratuitos.  \nPara más información y reserva de cupo\, llamar al 4511-5525. 
URL:https://www.wingsguate.org/event/anticonceptivos-santo-domingo-xenacoj-sacatepequez-6/
CATEGORIES:English,Spanish
END:VEVENT
END:VCALENDAR