BEGIN:VCALENDAR
VERSION:2.0
PRODID:-//WINGS Guatemala - ECPv6.15.20//NONSGML v1.0//EN
CALSCALE:GREGORIAN
METHOD:PUBLISH
X-WR-CALNAME:WINGS Guatemala
X-ORIGINAL-URL:https://www.wingsguate.org
X-WR-CALDESC:Events for WINGS Guatemala
REFRESH-INTERVAL;VALUE=DURATION:PT1H
X-Robots-Tag:noindex
X-PUBLISHED-TTL:PT1H
BEGIN:VTIMEZONE
TZID:UTC
BEGIN:STANDARD
TZOFFSETFROM:+0000
TZOFFSETTO:+0000
TZNAME:UTC
DTSTART:20200101T000000
END:STANDARD
END:VTIMEZONE
BEGIN:VEVENT
DTSTART;TZID=UTC:20210416T070000
DTEND;TZID=UTC:20210416T123000
DTSTAMP:20260422T005549
CREATED:20210316T233924Z
LAST-MODIFIED:20210316T233924Z
UID:5099-1618556400-1618576200@www.wingsguate.org
SUMMARY:Vasectomías – Quetzaltenango (Quetzaltenango)
DESCRIPTION:Vasectomías en el Hospital Vida de Quetzaltenango (Quetzaltenango).  \nDonación: Servicio Gratuito (población objetivo) / Q.50  \nVasectomía: Operación para hombres para no tener más hijos.  \nPara más información y reserva de cupo\, llamar al 4511-4847. 
URL:https://www.wingsguate.org/event/vasectomias-quetzaltenango-quetzaltenango-8/
CATEGORIES:English,Spanish
END:VEVENT
BEGIN:VEVENT
DTSTART;TZID=UTC:20210416T080000
DTEND;TZID=UTC:20210416T123000
DTSTAMP:20260422T005549
CREATED:20210409T230849Z
LAST-MODIFIED:20210409T230849Z
UID:5232-1618560000-1618576200@www.wingsguate.org
SUMMARY:Anticonceptivos – Nueva Santa Rosa (Santa Rosa)
DESCRIPTION:Servicios anticonceptivos en el Puesto de Salud de Aldea las Chapas\, Nueva Santa Rosa (Santa Rosa).  \nAnticonceptivos: Colocación de DIU (T de cobre) y Jadelle (implante hormonal).  \nTambién se ofrecerán pruebas de detección de cáncer cervical.  \nServicios gratuitos.  \nPara más información y reserva de cupo\, llamar al 4511-5039. 
URL:https://www.wingsguate.org/event/anticonceptivos-nueva-santa-rosa-santa-rosa-8/
CATEGORIES:English,Spanish
END:VEVENT
BEGIN:VEVENT
DTSTART;TZID=UTC:20210416T080000
DTEND;TZID=UTC:20210416T130000
DTSTAMP:20260422T005549
CREATED:20210409T222518Z
LAST-MODIFIED:20210409T222518Z
UID:5209-1618560000-1618578000@www.wingsguate.org
SUMMARY:Anticonceptivos – Patzicía (Chimaltenango)
DESCRIPTION:Servicios anticonceptivos en el Puesto de Salud El Citán\, Patzicía (Chimaltenango).  \nAnticonceptivos: Colocación de DIU (T de cobre) y Jadelle (implante hormonal).  \nTambién se ofrecerán pruebas de detección de cáncer cervical.  \nServicios gratuitos.  \nPara más información y reserva de cupo\, llamar al 3226-7744. 
URL:https://www.wingsguate.org/event/anticonceptivos-patzicia-chimaltenango-8/
CATEGORIES:English,Spanish
END:VEVENT
BEGIN:VEVENT
DTSTART;TZID=UTC:20210416T080000
DTEND;TZID=UTC:20210416T170000
DTSTAMP:20260422T005549
CREATED:20210316T221147Z
LAST-MODIFIED:20210316T221147Z
UID:5047-1618560000-1618592400@www.wingsguate.org
SUMMARY:Vasectomías – La Antigua Guatemala (Sacatepéquez)
DESCRIPTION:Vasectomías en la Clínica de Alas\, La Antigua Guatemala (Sacatepéquez).  \nDonación: Servicio Gratuito (población objetivo) / Q.100  \nVasectomía: Operación para hombres para no tener más hijos.  \nPara más información y reserva de cupo\, llamar al 4511-4347. 
URL:https://www.wingsguate.org/event/vasectomias-la-antigua-guatemala-sacatepequez-54/
CATEGORIES:English,Spanish
END:VEVENT
END:VCALENDAR