BEGIN:VCALENDAR
VERSION:2.0
PRODID:-//WINGS Guatemala - ECPv6.15.20//NONSGML v1.0//EN
CALSCALE:GREGORIAN
METHOD:PUBLISH
X-ORIGINAL-URL:https://www.wingsguate.org
X-WR-CALDESC:Events for WINGS Guatemala
REFRESH-INTERVAL;VALUE=DURATION:PT1H
X-Robots-Tag:noindex
X-PUBLISHED-TTL:PT1H
BEGIN:VTIMEZONE
TZID:UTC
BEGIN:STANDARD
TZOFFSETFROM:+0000
TZOFFSETTO:+0000
TZNAME:UTC
DTSTART:20200101T000000
END:STANDARD
END:VTIMEZONE
BEGIN:VEVENT
DTSTART;TZID=UTC:20210414T080000
DTEND;TZID=UTC:20210414T133000
DTSTAMP:20260424T091308
CREATED:20210409T220434Z
LAST-MODIFIED:20210409T220434Z
UID:5205-1618387200-1618407000@www.wingsguate.org
SUMMARY:Anticonceptivos – Patzún (Chimaltenango)
DESCRIPTION:Servicios anticonceptivos en el Puesto de Salud las Camelias\, Patzún (Chimaltenango).  \nAnticonceptivos: Colocación de DIU (T de cobre) y Jadelle (implante hormonal).  \nTambién se ofrecerán pruebas de detección de cáncer cervical.  \nServicios gratuitos.  \nPara más información y reserva de cupo\, llamar al 3226-7744. 
URL:https://www.wingsguate.org/event/anticonceptivos-patzun-chimaltenango-15/
CATEGORIES:English,Spanish
END:VEVENT
BEGIN:VEVENT
DTSTART;TZID=UTC:20210414T080000
DTEND;TZID=UTC:20210414T143000
DTSTAMP:20260424T091308
CREATED:20210316T231249Z
LAST-MODIFIED:20210316T231249Z
UID:5075-1618387200-1618410600@www.wingsguate.org
SUMMARY:Anticonceptivos – Champerico (Retalhuleu)
DESCRIPTION:Servicios anticonceptivos en la Dirección Municipal de la Mujer de Champerico (Retalhuleu).  \nAnticonceptivos: Colocación de DIU (T de cobre) y Jadelle (implante hormonal).  \nTambién se ofrecerán pruebas de detección de cáncer cervical.  \nServicios gratuitos.  \nPara más información y reserva de cupo\, llamar al 4511-6520. 
URL:https://www.wingsguate.org/event/anticonceptivos-champerico-retalhuleu-3/
CATEGORIES:English,Spanish
END:VEVENT
BEGIN:VEVENT
DTSTART;TZID=UTC:20210414T080000
DTEND;TZID=UTC:20210414T143000
DTSTAMP:20260424T091308
CREATED:20210316T233217Z
LAST-MODIFIED:20210316T233217Z
UID:5095-1618387200-1618410600@www.wingsguate.org
SUMMARY:Anticonceptivos – Totonicapán (Totonicapán)
DESCRIPTION:Servicios anticonceptivos en el Centro de Salud de Totonicapán (Totonicapán).  \nAnticonceptivos: Colocación de DIU (T de cobre) y Jadelle (implante hormonal).  \nTambién se ofrecerán pruebas de detección de cáncer cervical.  \nServicios gratuitos.  \nPara más información y reserva de cupo\, llamar al 4511-4847. 
URL:https://www.wingsguate.org/event/anticonceptivos-totonicapan-totonicapan-19/
CATEGORIES:English,Spanish
END:VEVENT
BEGIN:VEVENT
DTSTART;TZID=UTC:20210414T080000
DTEND;TZID=UTC:20210414T143000
DTSTAMP:20260424T091308
CREATED:20210316T234820Z
LAST-MODIFIED:20210316T234820Z
UID:5109-1618387200-1618410600@www.wingsguate.org
SUMMARY:Anticonceptivos – San Rafael Petzal (Huehuetenango)
DESCRIPTION:Servicios anticonceptivos en el Centro de Salud de San Rafael Petzal (Huehuetenango).  \nAnticonceptivos: Colocación de DIU (T de cobre) y Jadelle (implante hormonal).  \nTambién se ofrecerán pruebas de detección de cáncer cervical.  \nServicios gratuitos.  \nPara más información y reserva de cupo\, llamar al 3227-4564. 
URL:https://www.wingsguate.org/event/anticonceptivos-san-rafael-petzal-huehuetenango/
CATEGORIES:English,Spanish
END:VEVENT
BEGIN:VEVENT
DTSTART;TZID=UTC:20210414T080000
DTEND;TZID=UTC:20210414T143000
DTSTAMP:20260424T091308
CREATED:20210317T001556Z
LAST-MODIFIED:20210317T001556Z
UID:5132-1618387200-1618410600@www.wingsguate.org
SUMMARY:Anticonceptivos – Santa Catarina La Tinta (Alta Verapaz)
DESCRIPTION:Servicios anticonceptivos en el Centro Comunitario Tampur\, Santa Catarina La Tinta (Alta Verapaz).  \nAnticonceptivos: Colocación de DIU (T de cobre) y Jadelle (implante hormonal).  \nTambién se ofrecerán pruebas de detección de cáncer cervical.  \nServicios gratuitos.  \nPara más información y reserva de cupo\, llamar al 3227-1513. 
URL:https://www.wingsguate.org/event/anticonceptivos-santa-catarina-la-tinta-alta-verapaz/
CATEGORIES:English,Spanish
END:VEVENT
END:VCALENDAR