BEGIN:VCALENDAR
VERSION:2.0
PRODID:-//WINGS Guatemala - ECPv6.15.20//NONSGML v1.0//EN
CALSCALE:GREGORIAN
METHOD:PUBLISH
X-ORIGINAL-URL:https://www.wingsguate.org
X-WR-CALDESC:Events for WINGS Guatemala
REFRESH-INTERVAL;VALUE=DURATION:PT1H
X-Robots-Tag:noindex
X-PUBLISHED-TTL:PT1H
BEGIN:VTIMEZONE
TZID:UTC
BEGIN:STANDARD
TZOFFSETFROM:+0000
TZOFFSETTO:+0000
TZNAME:UTC
DTSTART:20200101T000000
END:STANDARD
END:VTIMEZONE
BEGIN:VEVENT
DTSTART;TZID=UTC:20210413T073000
DTEND;TZID=UTC:20210413T113000
DTSTAMP:20260424T072907
CREATED:20210409T235637Z
LAST-MODIFIED:20210409T235637Z
UID:5254-1618299000-1618313400@www.wingsguate.org
SUMMARY:Operaciones – Malacatán (San Marcos)
DESCRIPTION:Jornada de operaciones para hombre y mujer en el Hospital Nacional de Malacatán (San Marcos).  \nOperaciones (para no tener más hijos): Ligaduras de trompas y vasectomías.  \nJORNADA GRATUITA.  \n\nPara más información y reserva de cupo\, llamar al 3227-4564. 
URL:https://www.wingsguate.org/event/operaciones-malacatan-san-marcos-7/
CATEGORIES:English,Spanish
END:VEVENT
BEGIN:VEVENT
DTSTART;TZID=UTC:20210413T080000
DTEND;TZID=UTC:20210413T123000
DTSTAMP:20260424T072907
CREATED:20210409T230743Z
LAST-MODIFIED:20210409T230743Z
UID:5230-1618300800-1618317000@www.wingsguate.org
SUMMARY:Anticonceptivos – Nueva Santa Rosa (Santa Rosa)
DESCRIPTION:Servicios anticonceptivos en el Centro de Salud de Nueva Santa Rosa (Santa Rosa).  \nAnticonceptivos: Colocación de DIU (T de cobre) y Jadelle (implante hormonal).  \nTambién se ofrecerán pruebas de detección de cáncer cervical.  \nServicios gratuitos.  \nPara más información y reserva de cupo\, llamar al 4511-5039. 
URL:https://www.wingsguate.org/event/anticonceptivos-nueva-santa-rosa-santa-rosa-7/
CATEGORIES:English,Spanish
END:VEVENT
BEGIN:VEVENT
DTSTART;TZID=UTC:20210413T080000
DTEND;TZID=UTC:20210413T143000
DTSTAMP:20260424T072907
CREATED:20210316T223930Z
LAST-MODIFIED:20210316T223930Z
UID:5061-1618300800-1618324200@www.wingsguate.org
SUMMARY:Anticonceptivos – La Antigua Guatemala (Sacatepéquez)
DESCRIPTION:Servicios anticonceptivos en el Centro de Convergencia de Aldea el Hato\, La Antigua Guatemala (Sacatepéquez).  \nAnticonceptivos: Colocación de DIU (T de cobre) y Jadelle (implante hormonal).  \nTambién se ofrecerán pruebas de detección de cáncer cervical.  \nServicios gratuitos.  \nPara más información y reserva de cupo\, llamar al 4511-5525. 
URL:https://www.wingsguate.org/event/anticonceptivos-la-antigua-guatemala-sacatepequez-5/
CATEGORIES:English,Spanish
END:VEVENT
BEGIN:VEVENT
DTSTART;TZID=UTC:20210413T080000
DTEND;TZID=UTC:20210413T143000
DTSTAMP:20260424T072907
CREATED:20210316T225535Z
LAST-MODIFIED:20210316T225535Z
UID:5069-1618300800-1618324200@www.wingsguate.org
SUMMARY:Anticonceptivos – San Juan Sacatepéquez (Ciudad de Guatemala)
DESCRIPTION:Servicios anticonceptivos en la Dirección Municipal de Salud de San Juan Sacatepéquez (Ciudad de Guatemala).  \nAnticonceptivos: Colocación de DIU (T de cobre) y Jadelle (implante hormonal).  \nTambién se ofrecerán pruebas de detección de cáncer cervical.  \nServicios gratuitos.  \nPara más información y reserva de cupo\, llamar al 4511-3527. 
URL:https://www.wingsguate.org/event/anticonceptivos-san-juan-sacatepequez-ciudad-de-guatemala/
CATEGORIES:English,Spanish
END:VEVENT
BEGIN:VEVENT
DTSTART;TZID=UTC:20210413T080000
DTEND;TZID=UTC:20210413T143000
DTSTAMP:20260424T072907
CREATED:20210317T001332Z
LAST-MODIFIED:20210410T001046Z
UID:5130-1618300800-1618324200@www.wingsguate.org
SUMMARY:Anticonceptivos – San Pedro Carchá (Alta Verapaz)
DESCRIPTION:Servicios anticonceptivos en el Puesto de Salud de Comunidad Semesche\, San Pedro Carchá (Alta Verapaz).  \nAnticonceptivos: Colocación de DIU (T de cobre) y Jadelle (implante hormonal).  \nTambién se ofrecerán pruebas de detección de cáncer cervical.  \nServicios gratuitos.  \nPara más información y reserva de cupo\, llamar al 3227-1513. 
URL:https://www.wingsguate.org/event/anticonceptivos-san-pedro-carcha-alta-verapaz-28/
CATEGORIES:English,Spanish
END:VEVENT
END:VCALENDAR