BEGIN:VCALENDAR
VERSION:2.0
PRODID:-//WINGS Guatemala - ECPv6.15.20//NONSGML v1.0//EN
CALSCALE:GREGORIAN
METHOD:PUBLISH
X-WR-CALNAME:WINGS Guatemala
X-ORIGINAL-URL:https://www.wingsguate.org
X-WR-CALDESC:Events for WINGS Guatemala
REFRESH-INTERVAL;VALUE=DURATION:PT1H
X-Robots-Tag:noindex
X-PUBLISHED-TTL:PT1H
BEGIN:VTIMEZONE
TZID:UTC
BEGIN:STANDARD
TZOFFSETFROM:+0000
TZOFFSETTO:+0000
TZNAME:UTC
DTSTART:20200101T000000
END:STANDARD
END:VTIMEZONE
BEGIN:VEVENT
DTSTART;TZID=UTC:20210225T080000
DTEND;TZID=UTC:20210225T130000
DTSTAMP:20260420T172444
CREATED:20210129T115504Z
LAST-MODIFIED:20210129T115504Z
UID:4650-1614240000-1614258000@www.wingsguate.org
SUMMARY:Anticonceptivos – San Juan Tecuaco (Santa Rosa)
DESCRIPTION:Servicios anticonceptivos en el Centro de Salud de San Juan Tecuaco (Santa Rosa).  \nAnticonceptivos: Colocación de DIU (T de cobre) y Jadelle (implante hormonal).  \nTambién se ofrecerán pruebas de detección de cáncer cervical.  \nServicios gratuitos.  \nPara más información y reserva de cupo\, llamar al 4511-5039. 
URL:https://www.wingsguate.org/event/anticonceptivos-san-juan-tecuaco-santa-rosa-6/
CATEGORIES:English,Spanish
END:VEVENT
BEGIN:VEVENT
DTSTART;TZID=UTC:20210225T080000
DTEND;TZID=UTC:20210225T130000
DTSTAMP:20260420T172444
CREATED:20210129T120645Z
LAST-MODIFIED:20210129T120645Z
UID:4664-1614240000-1614258000@www.wingsguate.org
SUMMARY:Anticonceptivos – Colomba (Quetzaltenango)
DESCRIPTION:Servicios anticonceptivos en el Puesto de Salud de Colomba Costa Cuca (Quetzaltenango).  \nAnticonceptivos: Colocación de DIU (T de cobre) y Jadelle (implante hormonal).  \nTambién se ofrecerán pruebas de detección de cáncer cervical.  \nServicios gratuitos.  \nPara más información y reserva de cupo\, llamar al 4511-7490. 
URL:https://www.wingsguate.org/event/anticonceptivos-colomba-quetzaltenango-7/
CATEGORIES:English,Spanish
END:VEVENT
BEGIN:VEVENT
DTSTART;TZID=UTC:20210225T080000
DTEND;TZID=UTC:20210225T130000
DTSTAMP:20260420T172444
CREATED:20210203T033044Z
LAST-MODIFIED:20210203T033044Z
UID:4733-1614240000-1614258000@www.wingsguate.org
SUMMARY:Anticonceptivos – San Pedro Carchá (Alta Verapaz)
DESCRIPTION:Servicios anticonceptivos en el Centro Atención Permanente de San Pedro Carchá (Alta Verapaz).  \nAnticonceptivos: Colocación de DIU (T de cobre) y Jadelle (implante hormonal).  \nTambién se ofrecerán pruebas de detección de cáncer cervical.  \nServicios gratuitos.  \nPara más información y reserva de cupo\, llamar al 4511-7279. 
URL:https://www.wingsguate.org/event/anticonceptivos-san-pedro-carcha-alta-verapaz-19/
CATEGORIES:English,Spanish
END:VEVENT
END:VCALENDAR