BEGIN:VCALENDAR
VERSION:2.0
PRODID:-//WINGS Guatemala - ECPv6.15.20//NONSGML v1.0//EN
CALSCALE:GREGORIAN
METHOD:PUBLISH
X-ORIGINAL-URL:https://www.wingsguate.org
X-WR-CALDESC:Events for WINGS Guatemala
REFRESH-INTERVAL;VALUE=DURATION:PT1H
X-Robots-Tag:noindex
X-PUBLISHED-TTL:PT1H
BEGIN:VTIMEZONE
TZID:UTC
BEGIN:STANDARD
TZOFFSETFROM:+0000
TZOFFSETTO:+0000
TZNAME:UTC
DTSTART:20200101T000000
END:STANDARD
END:VTIMEZONE
BEGIN:VEVENT
DTSTART;TZID=UTC:20210223T080000
DTEND;TZID=UTC:20210223T130000
DTSTAMP:20260423T054610
CREATED:20210129T115232Z
LAST-MODIFIED:20210129T115232Z
UID:4645-1614067200-1614085200@www.wingsguate.org
SUMMARY:Anticonceptivos – San Juan Tecuaco (Santa Rosa)
DESCRIPTION:Servicios anticonceptivos en la Escuela Aldea El Tanque\, San Juan Tecuaco (Santa Rosa).  \nAnticonceptivos: Colocación de DIU (T de cobre) y Jadelle (implante hormonal).  \nTambién se ofrecerán pruebas de detección de cáncer cervical.  \nServicios gratuitos.  \nPara más información y reserva de cupo\, llamar al 4511-5039. 
URL:https://www.wingsguate.org/event/anticonceptivos-san-juan-tecuaco-santa-rosa-4/
CATEGORIES:English,Spanish
END:VEVENT
BEGIN:VEVENT
DTSTART;TZID=UTC:20210223T080000
DTEND;TZID=UTC:20210223T130000
DTSTAMP:20260423T054610
CREATED:20210203T031159Z
LAST-MODIFIED:20210203T031159Z
UID:4708-1614067200-1614085200@www.wingsguate.org
SUMMARY:Anticonceptivos – Samayac (Suchitepéquez)
DESCRIPTION:Servicios anticonceptivos en la Dirección Municipal de la Mujer de Samayac (Suchitepéquez).  \nAnticonceptivos: Colocación de DIU (T de cobre) y Jadelle (implante hormonal).  \nTambién se ofrecerán pruebas de detección de cáncer cervical.  \nServicios gratuitos.  \nPara más información y reserva de cupo\, llamar al 4511-6520. 
URL:https://www.wingsguate.org/event/anticonceptivos-samayac-suchitepequez-3/
CATEGORIES:English,Spanish
END:VEVENT
BEGIN:VEVENT
DTSTART;TZID=UTC:20210223T080000
DTEND;TZID=UTC:20210223T130000
DTSTAMP:20260423T054610
CREATED:20210216T210522Z
LAST-MODIFIED:20210216T210522Z
UID:4841-1614067200-1614085200@www.wingsguate.org
SUMMARY:Anticonceptivos – Sumpango (Sacatepéquez)
DESCRIPTION:Servicios anticonceptivos en el Salón Comunal el Arado\, Sumpango (Sacatepéquez).  \nAnticonceptivos: Colocación de DIU (T de cobre) y Jadelle (implante hormonal).  \nTambién se ofrecerán pruebas de detección de cáncer cervical.  \nServicios gratuitos.  \nPara más información y reserva de cupo\, llamar al 4511-5525. 
URL:https://www.wingsguate.org/event/anticonceptivos-sumpango-sacatepequez-9/
CATEGORIES:English,Spanish
END:VEVENT
BEGIN:VEVENT
DTSTART;TZID=UTC:20210223T080000
DTEND;TZID=UTC:20210223T133000
DTSTAMP:20260423T054610
CREATED:20210119T231536Z
LAST-MODIFIED:20210119T231536Z
UID:4597-1614067200-1614087000@www.wingsguate.org
SUMMARY:Anticonceptivos – San Antonio Aguas Calientes (Sacatepéquez)
DESCRIPTION:Servicios anticonceptivos en el Puesto de Salud de San Antonio Aguas Calientes (Sacatepéquez).  \nAnticonceptivos: Colocación de DIU (T de cobre) y Jadelle (implante hormonal).  \nTambién se ofrecerán pruebas de detección de cáncer cervical.  \nServicios gratuitos.  \nPara más información y reserva de cupo\, llamar al 4511-5525. 
URL:https://www.wingsguate.org/event/anticonceptivos-san-antonio-aguas-calientes-sacatepequez-4/
CATEGORIES:English,Spanish
END:VEVENT
BEGIN:VEVENT
DTSTART;TZID=UTC:20210223T080000
DTEND;TZID=UTC:20210223T170000
DTSTAMP:20260423T054610
CREATED:20210223T212722Z
LAST-MODIFIED:20210223T212722Z
UID:4954-1614067200-1614099600@www.wingsguate.org
SUMMARY:Anticonceptivos – Cantel (Quetzaltenango)
DESCRIPTION:Servicios anticonceptivos en el Puesto de Salud Pasac Primero\, Cantel (Quetzaltenango).  \nAnticonceptivos: Colocación de DIU (T de cobre) y Jadelle (implante hormonal).  \nTambién se ofrecerán pruebas de detección de cáncer cervical.  \nServicios gratuitos.  \nPara más información y reserva de cupo\, llamar al 4511-7490. 
URL:https://www.wingsguate.org/event/anticonceptivos-cantel-quetzaltenango-6/
CATEGORIES:English,Spanish
END:VEVENT
END:VCALENDAR