BEGIN:VCALENDAR
VERSION:2.0
PRODID:-//WINGS Guatemala - ECPv6.15.20//NONSGML v1.0//EN
CALSCALE:GREGORIAN
METHOD:PUBLISH
X-WR-CALNAME:WINGS Guatemala
X-ORIGINAL-URL:https://www.wingsguate.org
X-WR-CALDESC:Events for WINGS Guatemala
REFRESH-INTERVAL;VALUE=DURATION:PT1H
X-Robots-Tag:noindex
X-PUBLISHED-TTL:PT1H
BEGIN:VTIMEZONE
TZID:UTC
BEGIN:STANDARD
TZOFFSETFROM:+0000
TZOFFSETTO:+0000
TZNAME:UTC
DTSTART:20190101T000000
END:STANDARD
END:VTIMEZONE
BEGIN:VEVENT
DTSTART;TZID=UTC:20201022T080000
DTEND;TZID=UTC:20201022T130000
DTSTAMP:20260421T220220
CREATED:20201014T224523Z
LAST-MODIFIED:20201014T224523Z
UID:3992-1603353600-1603371600@www.wingsguate.org
SUMMARY:Anticonceptivos – La Democracia (Escuintla)
DESCRIPTION:Servicios anticonceptivos en el Puesto de Salud de El Pilar\, La Democracia (Escuintla).  \nAnticonceptivos: Colocación de DIU (T de cobre) y Jadelle (implante hormonal).  \nTambién se ofrecerán pruebas de detección de cáncer cervical.  \nServicios gratuitos.  \nPara más información y reserva de cupo\, llamar al 4511-3527. 
URL:https://www.wingsguate.org/event/anticonceptivos-la-democracia-escuintla-8/
CATEGORIES:English,Spanish
END:VEVENT
BEGIN:VEVENT
DTSTART;TZID=UTC:20201022T080000
DTEND;TZID=UTC:20201022T130000
DTSTAMP:20260421T220220
CREATED:20201023T054959Z
LAST-MODIFIED:20201023T054959Z
UID:4028-1603353600-1603371600@www.wingsguate.org
SUMMARY:Anticonceptivos – Huehuetenango (Huehuetenango)
DESCRIPTION:Servicios anticonceptivos en el Puesto de Salud El Terreno zona 4\, Huehuetenango (Huehuetenango).  \nAnticonceptivos: Colocación de DIU (T de cobre) y Jadelle (implante hormonal).  \nTambién se ofrecerán pruebas de detección de cáncer cervical.  \nServicios gratuitos.  \nPara más información y reserva de cupo\, llamar al 3227-4564. 
URL:https://www.wingsguate.org/event/anticonceptivos-huehuetenango-huehuetenango-7/
CATEGORIES:English,Spanish
END:VEVENT
BEGIN:VEVENT
DTSTART;TZID=UTC:20201022T080000
DTEND;TZID=UTC:20201022T140000
DTSTAMP:20260421T220220
CREATED:20201014T223738Z
LAST-MODIFIED:20201014T223738Z
UID:3986-1603353600-1603375200@www.wingsguate.org
SUMMARY:Anticonceptivos – San José El Idolo (Suchitepéquez)
DESCRIPTION:Servicios anticonceptivos en el Centro de Salud San José El Idolo (Suchitepéquez).  \nAnticonceptivos: Colocación de DIU (T de cobre) y Jadelle (implante hormonal).  \nTambién se ofrecerán pruebas de detección de cáncer cervical.  \nServicios gratuitos.  \nPara más información y reserva de cupo\, llamar al 4511-6520. 
URL:https://www.wingsguate.org/event/anticonceptivos-san-jose-el-idolo-suchitepequez/
CATEGORIES:English,Spanish
END:VEVENT
BEGIN:VEVENT
DTSTART;TZID=UTC:20201022T090000
DTEND;TZID=UTC:20201022T130000
DTSTAMP:20260421T220220
CREATED:20201014T222702Z
LAST-MODIFIED:20201023T112903Z
UID:3982-1603357200-1603371600@www.wingsguate.org
SUMMARY:Anticonceptivos – Quetzaltenango (Quetzaltenango)
DESCRIPTION:Servicios anticonceptivos en el Puesto de Salud Los Llanos\, Quetzaltenango (Quetzaltenango).  \nAnticonceptivos: Colocación de DIU (T de cobre) y Jadelle (implante hormonal).  \nTambién se ofrecerán pruebas de detección de cáncer cervical.  \nServicios gratuitos.  \nPara más información y reserva de cupo\, llamar al 4511-7490. 
URL:https://www.wingsguate.org/event/anticonceptivos-quetzaltenango-quetzaltenango-18/
CATEGORIES:English,Spanish
END:VEVENT
BEGIN:VEVENT
DTSTART;TZID=UTC:20201022T090000
DTEND;TZID=UTC:20201022T130000
DTSTAMP:20260421T220220
CREATED:20201014T223323Z
LAST-MODIFIED:20201014T223323Z
UID:3984-1603357200-1603371600@www.wingsguate.org
SUMMARY:Anticonceptivos – Totonicapán (Totonicapán)
DESCRIPTION:Servicios anticonceptivos en el Centro de Salud Totonicapán (Totonicapán).  \nAnticonceptivos: Colocación de DIU (T de cobre) y Jadelle (implante hormonal).  \nTambién se ofrecerán pruebas de detección de cáncer cervical.  \nServicios gratuitos.  \nPara más información y reserva de cupo\, llamar al 3227-7895. 
URL:https://www.wingsguate.org/event/anticonceptivos-totonicapan-totonicapan-5/
CATEGORIES:English,Spanish
END:VEVENT
END:VCALENDAR