BEGIN:VCALENDAR
VERSION:2.0
PRODID:-//WINGS Guatemala - ECPv6.15.20//NONSGML v1.0//EN
CALSCALE:GREGORIAN
METHOD:PUBLISH
X-ORIGINAL-URL:https://www.wingsguate.org
X-WR-CALDESC:Events for WINGS Guatemala
REFRESH-INTERVAL;VALUE=DURATION:PT1H
X-Robots-Tag:noindex
X-PUBLISHED-TTL:PT1H
BEGIN:VTIMEZONE
TZID:UTC
BEGIN:STANDARD
TZOFFSETFROM:+0000
TZOFFSETTO:+0000
TZNAME:UTC
DTSTART:20190101T000000
END:STANDARD
END:VTIMEZONE
BEGIN:VEVENT
DTSTART;TZID=UTC:20201020T080000
DTEND;TZID=UTC:20201020T170000
DTSTAMP:20260422T014114
CREATED:20200924T110331Z
LAST-MODIFIED:20200924T110331Z
UID:3863-1603180800-1603213200@www.wingsguate.org
SUMMARY:FERIADO - DIA DE LA REVOLUCIÓN
DESCRIPTION:
URL:https://www.wingsguate.org/event/feriado-dia-de-la-revolucion/
CATEGORIES:English,Spanish
END:VEVENT
END:VCALENDAR