BEGIN:VCALENDAR
VERSION:2.0
PRODID:-//WINGS Guatemala - ECPv6.15.20//NONSGML v1.0//EN
CALSCALE:GREGORIAN
METHOD:PUBLISH
X-ORIGINAL-URL:https://www.wingsguate.org
X-WR-CALDESC:Events for WINGS Guatemala
REFRESH-INTERVAL;VALUE=DURATION:PT1H
X-Robots-Tag:noindex
X-PUBLISHED-TTL:PT1H
BEGIN:VTIMEZONE
TZID:UTC
BEGIN:STANDARD
TZOFFSETFROM:+0000
TZOFFSETTO:+0000
TZNAME:UTC
DTSTART:20190101T000000
END:STANDARD
END:VTIMEZONE
BEGIN:VEVENT
DTSTART;TZID=UTC:20201016T060000
DTEND;TZID=UTC:20201016T103000
DTSTAMP:20260420T220056
CREATED:20201007T093511Z
LAST-MODIFIED:20201007T093511Z
UID:3907-1602828000-1602844200@www.wingsguate.org
SUMMARY:Vasectomías – La Antigua Guatemala (Sacatepéquez)
DESCRIPTION:Vasectomías en la Clínica de Alas\, La Antigua Guatemala (Sacatepéquez).  \nDonación: Servicio Gratuito (población objetivo) / Q.100  \nVasectomía: Operación para hombres para no tener más hijos.  \nPara más información y reserva de cupo\, llamar al 4511-4347. 
URL:https://www.wingsguate.org/event/vasectomias-la-antigua-guatemala-sacatepequez-36/
CATEGORIES:English,Spanish
END:VEVENT
BEGIN:VEVENT
DTSTART;TZID=UTC:20201016T080000
DTEND;TZID=UTC:20201016T130000
DTSTAMP:20260420T220056
CREATED:20201007T095749Z
LAST-MODIFIED:20201007T095749Z
UID:3933-1602835200-1602853200@www.wingsguate.org
SUMMARY:Anticonceptivos – Santa Cruz Balanya (Chimaltenango)
DESCRIPTION:Servicios anticonceptivos en Centro de Salud de Santa Cruz Balanya (Chimaltenango).  \nAnticonceptivos: Colocación de DIU (T de cobre) y Jadelle (implante hormonal).  \nTambién se ofrecerán pruebas de detección de cáncer cervical.  \nServicios gratuitos.  \nPara más información y reserva de cupo\, llamar al 4511-5525. 
URL:https://www.wingsguate.org/event/anticonceptivos-santa-cruz-balanya-chimaltenango-4/
CATEGORIES:English,Spanish
END:VEVENT
BEGIN:VEVENT
DTSTART;TZID=UTC:20201016T080000
DTEND;TZID=UTC:20201016T130000
DTSTAMP:20260420T220056
CREATED:20201010T094045Z
LAST-MODIFIED:20201023T112547Z
UID:3945-1602835200-1602853200@www.wingsguate.org
SUMMARY:Anticonceptivos – San Carlos Sija (Quetzaltenango)
DESCRIPTION:Servicios anticonceptivos en el Puesto de Salud Las Cruces\, San Carlos Sija (Quetzaltenango).  \nAnticonceptivos: Colocación de DIU (T de cobre) y Jadelle (implante hormonal).  \nTambién se ofrecerán pruebas de detección de cáncer cervical.  \nServicios gratuitos.  \nPara más información y reserva de cupo\, llamar al 4511-7490. 
URL:https://www.wingsguate.org/event/anticonceptivos-san-carlos-sija-escuintla/
CATEGORIES:English,Spanish
END:VEVENT
END:VCALENDAR