BEGIN:VCALENDAR
VERSION:2.0
PRODID:-//WINGS Guatemala - ECPv6.15.20//NONSGML v1.0//EN
CALSCALE:GREGORIAN
METHOD:PUBLISH
X-ORIGINAL-URL:https://www.wingsguate.org
X-WR-CALDESC:Events for WINGS Guatemala
REFRESH-INTERVAL;VALUE=DURATION:PT1H
X-Robots-Tag:noindex
X-PUBLISHED-TTL:PT1H
BEGIN:VTIMEZONE
TZID:UTC
BEGIN:STANDARD
TZOFFSETFROM:+0000
TZOFFSETTO:+0000
TZNAME:UTC
DTSTART:20170101T000000
END:STANDARD
END:VTIMEZONE
BEGIN:VEVENT
DTSTART;TZID=UTC:20180922T090000
DTEND;TZID=UTC:20180922T160000
DTSTAMP:20260423T131947
CREATED:20180808T220702Z
LAST-MODIFIED:20180808T221252Z
UID:1265-1537606800-1537632000@www.wingsguate.org
SUMMARY:Visit us at Caoba Farms!
DESCRIPTION:We will be at Caoba Farms (La Antigua Guatemala) from 9AM to 4PM selling our amazing Frida Kahlo inspired t-shirts and tickets for the dinner at Fridas. Come visit us!
URL:https://www.wingsguate.org/event/visit-us-at-caoba-farms/
CATEGORIES:English
END:VEVENT
END:VCALENDAR