BEGIN:VCALENDAR
VERSION:2.0
PRODID:-//WINGS Guatemala - ECPv6.15.20//NONSGML v1.0//EN
CALSCALE:GREGORIAN
METHOD:PUBLISH
X-WR-CALNAME:WINGS Guatemala
X-ORIGINAL-URL:https://www.wingsguate.org
X-WR-CALDESC:Events for WINGS Guatemala
REFRESH-INTERVAL;VALUE=DURATION:PT1H
X-Robots-Tag:noindex
X-PUBLISHED-TTL:PT1H
BEGIN:VTIMEZONE
TZID:UTC
BEGIN:STANDARD
TZOFFSETFROM:+0000
TZOFFSETTO:+0000
TZNAME:UTC
DTSTART:20170101T000000
END:STANDARD
END:VTIMEZONE
BEGIN:VEVENT
DTSTART;TZID=UTC:20180713T070000
DTEND;TZID=UTC:20180713T140000
DTSTAMP:20260420T202640
CREATED:20180627T215743Z
LAST-MODIFIED:20180628T003529Z
UID:1087-1531465200-1531490400@www.wingsguate.org
SUMMARY:Anticonceptivos - San Juan La Laguna (Sololá)
DESCRIPTION:Jornada de anticonceptivos en la Cooperativa La Voz que Clama en el Desierto\, San Juan La Laguna (Sololá).  \nAnticonceptivos: Colocación de DIU (T de cobre) y Jadelle (implante hormonal).  \nPara más información y reserva de cupo\, llamar al 4511-4847.
URL:https://www.wingsguate.org/event/anticonceptivos-san-juan-la-laguna-solola/
CATEGORIES:Spanish
END:VEVENT
BEGIN:VEVENT
DTSTART;TZID=UTC:20180713T080000
DTEND;TZID=UTC:20180713T140000
DTSTAMP:20260420T202640
CREATED:20180627T232406Z
LAST-MODIFIED:20180627T232406Z
UID:1126-1531468800-1531490400@www.wingsguate.org
SUMMARY:Vasectomías - La Antigua (Sacatepéquez)
DESCRIPTION:[CUPO LLENO] \nJornada de vasectomías en la Clínica de Alas\, La Antigua Guatemala (Sacatepéquez). \nVasectomía: Operación para hombres para no tener más hijos. \nPara más información\, llamar al 7832-5130.
URL:https://www.wingsguate.org/event/vasectomias-la-antigua-sacatepequez-5/
CATEGORIES:Spanish
END:VEVENT
END:VCALENDAR