BEGIN:VCALENDAR
VERSION:2.0
PRODID:-//WINGS Guatemala - ECPv6.15.20//NONSGML v1.0//EN
CALSCALE:GREGORIAN
METHOD:PUBLISH
X-ORIGINAL-URL:https://www.wingsguate.org
X-WR-CALDESC:Events for WINGS Guatemala
REFRESH-INTERVAL;VALUE=DURATION:PT1H
X-Robots-Tag:noindex
X-PUBLISHED-TTL:PT1H
BEGIN:VTIMEZONE
TZID:UTC
BEGIN:STANDARD
TZOFFSETFROM:+0000
TZOFFSETTO:+0000
TZNAME:UTC
DTSTART:20170101T000000
END:STANDARD
END:VTIMEZONE
BEGIN:VEVENT
DTSTART;TZID=UTC:20180710T080000
DTEND;TZID=UTC:20180710T140000
DTSTAMP:20260423T110515
CREATED:20180627T214706Z
LAST-MODIFIED:20180627T223205Z
UID:1079-1531209600-1531231200@www.wingsguate.org
SUMMARY:Anticonceptivos - Aldea Paley\, San José Poaquil (Chimaltenango)
DESCRIPTION:Jornada de anticonceptivos en el Centro Comunitario de la aldea Paley\, San José Poaquil (Chimaltenango).  \nJORNADA GRATUITA. \nAnticonceptivos: Colocación de DIU (T de cobre) y Jadelle (implante hormonal).  \nPara más información y reserva de cupo\, llamar al 4511-5525.
URL:https://www.wingsguate.org/event/anticonceptivos-san-jose-poaquil-chimaltenango/
CATEGORIES:Spanish
END:VEVENT
BEGIN:VEVENT
DTSTART;TZID=UTC:20180710T080000
DTEND;TZID=UTC:20180710T140000
DTSTAMP:20260423T110515
CREATED:20180627T214913Z
LAST-MODIFIED:20180627T223225Z
UID:1081-1531209600-1531231200@www.wingsguate.org
SUMMARY:Anticonceptivos - San Miguel Milpas Altas (Sacatepéquez)
DESCRIPTION:Jornada de anticonceptivos en el Centro de Convergencia\, aldea San Miguel Milpas Altas (Sacatepéquez). \nJORNADA GRATUITA.  \nAnticonceptivos: Colocación de DIU (T de cobre) y Jadelle (implante hormonal).  \nPara más información y reserva de cupo\, llamar al 4511-5525. 
URL:https://www.wingsguate.org/event/anticonceptivos-san-miguel-milpas-altas-chimaltenango/
CATEGORIES:Spanish
END:VEVENT
END:VCALENDAR