BEGIN:VCALENDAR
VERSION:2.0
PRODID:-//WINGS Guatemala - ECPv6.15.20//NONSGML v1.0//EN
CALSCALE:GREGORIAN
METHOD:PUBLISH
X-ORIGINAL-URL:https://www.wingsguate.org
X-WR-CALDESC:Events for WINGS Guatemala
REFRESH-INTERVAL;VALUE=DURATION:PT1H
X-Robots-Tag:noindex
X-PUBLISHED-TTL:PT1H
BEGIN:VTIMEZONE
TZID:UTC
BEGIN:STANDARD
TZOFFSETFROM:+0000
TZOFFSETTO:+0000
TZNAME:UTC
DTSTART:20170101T000000
END:STANDARD
END:VTIMEZONE
BEGIN:VEVENT
DTSTART;TZID=UTC:20180522T070000
DTEND;TZID=UTC:20180522T120000
DTSTAMP:20260421T061545
CREATED:20180427T215138Z
LAST-MODIFIED:20180509T005827Z
UID:776-1526972400-1526990400@www.wingsguate.org
SUMMARY:Operaciones - San Cristóbal Verapaz (Alta Verapaz)
DESCRIPTION:Jornada de operaciones para hombre y mujer en San Cristóbal Verapaz (Alta Verapaz).  \nOperaciones (para no tener más hijos): Ligaduras de trompas y vasectomías.  \n\nPara más información y reserva de cupo\, llamar al 4511-5739 o 4511-6520.
URL:https://www.wingsguate.org/event/operaciones-san-cristobal-verapaz-alta-verapaz/
CATEGORIES:Spanish
END:VEVENT
BEGIN:VEVENT
DTSTART;TZID=UTC:20180522T080000
DTEND;TZID=UTC:20180522T120000
DTSTAMP:20260421T061545
CREATED:20180427T221919Z
LAST-MODIFIED:20180509T003730Z
UID:781-1526976000-1526990400@www.wingsguate.org
SUMMARY:Anticonceptivos - Masagua (Escuintla)
DESCRIPTION:Jornada de anticonceptivos en Masagua (Escuintla). \nAnticonceptivos: Colocación de DIU (T de cobre) y Jadelle (implante hormonal). \nPara más información y reserva de cupo\, llamar al 4511-5739 o 4511-6520.
URL:https://www.wingsguate.org/event/anticonceptivos-masagua-escuintla/
CATEGORIES:Spanish
END:VEVENT
END:VCALENDAR