BEGIN:VCALENDAR
VERSION:2.0
PRODID:-//WINGS Guatemala - ECPv6.15.20//NONSGML v1.0//EN
CALSCALE:GREGORIAN
METHOD:PUBLISH
X-WR-CALNAME:WINGS Guatemala
X-ORIGINAL-URL:https://www.wingsguate.org
X-WR-CALDESC:Events for WINGS Guatemala
REFRESH-INTERVAL;VALUE=DURATION:PT1H
X-Robots-Tag:noindex
X-PUBLISHED-TTL:PT1H
BEGIN:VTIMEZONE
TZID:UTC
BEGIN:STANDARD
TZOFFSETFROM:+0000
TZOFFSETTO:+0000
TZNAME:UTC
DTSTART:20170101T000000
END:STANDARD
END:VTIMEZONE
BEGIN:VEVENT
DTSTART;TZID=UTC:20180517T070000
DTEND;TZID=UTC:20180517T140000
DTSTAMP:20260422T011450
CREATED:20180427T214452Z
LAST-MODIFIED:20180509T023031Z
UID:773-1526540400-1526565600@www.wingsguate.org
SUMMARY:Operaciones - Momostenango (Totonicapán)
DESCRIPTION:Jornada de operaciones para hombre y mujer en Momostenango (Totonicapán).  \nOperaciones (para no tener más hijos): Ligaduras de trompas y vasectomías.  \nPara más información y reserva de cupo\, llamar al 4511-4847.
URL:https://www.wingsguate.org/event/operaciones-momostenango-totonicapan/
CATEGORIES:Spanish
END:VEVENT
BEGIN:VEVENT
DTSTART;TZID=UTC:20180517T080000
DTEND;TZID=UTC:20180517T120000
DTSTAMP:20260422T011450
CREATED:20180427T215559Z
LAST-MODIFIED:20180509T003745Z
UID:778-1526544000-1526558400@www.wingsguate.org
SUMMARY:Anticonceptivos - Boca Costa (Sololá)
DESCRIPTION:Jornada de anticonceptivos en el centro de salud Xejuyup Nahualá (Boca Costa\, Sololá). \nAnticonceptivos: Colocación de DIU (T de cobre) y Jadelle (implante hormonal). \nPara más información y reserva de cupo\, llamar al 4511-4847.
URL:https://www.wingsguate.org/event/anticonceptivos-boca-costa-solola/
CATEGORIES:Spanish
END:VEVENT
END:VCALENDAR