BEGIN:VCALENDAR
VERSION:2.0
PRODID:-//WINGS Guatemala - ECPv6.15.20//NONSGML v1.0//EN
CALSCALE:GREGORIAN
METHOD:PUBLISH
X-ORIGINAL-URL:https://www.wingsguate.org
X-WR-CALDESC:Events for WINGS Guatemala
REFRESH-INTERVAL;VALUE=DURATION:PT1H
X-Robots-Tag:noindex
X-PUBLISHED-TTL:PT1H
BEGIN:VTIMEZONE
TZID:UTC
BEGIN:STANDARD
TZOFFSETFROM:+0000
TZOFFSETTO:+0000
TZNAME:UTC
DTSTART:20170101T000000
END:STANDARD
END:VTIMEZONE
BEGIN:VEVENT
DTSTART;TZID=UTC:20180516T070000
DTEND;TZID=UTC:20180516T140000
DTSTAMP:20260422T031519
CREATED:20180427T214214Z
LAST-MODIFIED:20180509T023035Z
UID:771-1526454000-1526479200@www.wingsguate.org
SUMMARY:Operaciones - Retalhuleu (Retalhuleu)
DESCRIPTION:Jornada de operaciones para hombre y mujer en Retalhuleu.  \nOperaciones (para no tener más hijos): Ligaduras de trompas y vasectomías.   \n\nPara más información y reserva de cupo\, llamar al 4511-5739 o 4511-6520.
URL:https://www.wingsguate.org/event/operaciones-retalhuleu-retalhuleu/
CATEGORIES:Spanish
END:VEVENT
BEGIN:VEVENT
DTSTART;TZID=UTC:20180516T080000
DTEND;TZID=UTC:20180516T120000
DTSTAMP:20260422T031519
CREATED:20180427T214010Z
LAST-MODIFIED:20180509T003809Z
UID:769-1526457600-1526472000@www.wingsguate.org
SUMMARY:Anticonceptivos - San Andrés Villa Seca (Retalhuleu)
DESCRIPTION:Jornada de anticonceptivos en San Andrés Villa Seca (Retalhuleu). \nAnticonceptivos: Colocación de DIU (T de cobre) y Jadelle (implante hormonal). \nPara más información y reserva de cupo\, llamar al 4511-5739 o 4511-6520.
URL:https://www.wingsguate.org/event/anticonceptivos-san-andres-villa-seca-retalhuleu/
CATEGORIES:Spanish
END:VEVENT
END:VCALENDAR