BEGIN:VCALENDAR
VERSION:2.0
PRODID:-//WINGS Guatemala - ECPv6.15.20//NONSGML v1.0//EN
CALSCALE:GREGORIAN
METHOD:PUBLISH
X-WR-CALNAME:WINGS Guatemala
X-ORIGINAL-URL:https://www.wingsguate.org
X-WR-CALDESC:Events for WINGS Guatemala
REFRESH-INTERVAL;VALUE=DURATION:PT1H
X-Robots-Tag:noindex
X-PUBLISHED-TTL:PT1H
BEGIN:VTIMEZONE
TZID:UTC
BEGIN:STANDARD
TZOFFSETFROM:+0000
TZOFFSETTO:+0000
TZNAME:UTC
DTSTART:20170101T000000
END:STANDARD
END:VTIMEZONE
BEGIN:VEVENT
DTSTART;TZID=UTC:20180511T070000
DTEND;TZID=UTC:20180511T140000
DTSTAMP:20260422T024537
CREATED:20180427T210705Z
LAST-MODIFIED:20180509T023132Z
UID:756-1526022000-1526047200@www.wingsguate.org
SUMMARY:Operaciones - Chimaltenango (Chimaltenango)
DESCRIPTION:Jornada de operaciones para hombre y mujer en Chimaltenango.  \nOperaciones (para no tener más hijos): Ligaduras de trompas y vasectomías.  \nPara más información y reserva de cupo\, llamar al 4511-5525.
URL:https://www.wingsguate.org/event/operaciones-chimaltenango-chimaltenango/
CATEGORIES:Spanish
END:VEVENT
BEGIN:VEVENT
DTSTART;TZID=UTC:20180511T070000
DTEND;TZID=UTC:20180511T140000
DTSTAMP:20260422T024537
CREATED:20180503T200945Z
LAST-MODIFIED:20180509T022729Z
UID:849-1526022000-1526047200@www.wingsguate.org
SUMMARY:Vasectomías - La Antigua (Sacatepéquez)
DESCRIPTION:Jornada de vasectomías en la Clínica de Alas\, La Antigua Guatemala (Sacatepéquez).  \nVasectomía: Operación para hombres para no tener más hijos.  \nPara más información\, llamar al 7832-5130.
URL:https://www.wingsguate.org/event/vasectomias-la-antigua-guatemala-sacatepequez/
CATEGORIES:Spanish
END:VEVENT
END:VCALENDAR